BEGIN:VCALENDAR
VERSION:2.0
PRODID:-//Claremont Road Runners - ECPv6.15.20//NONSGML v1.0//EN
CALSCALE:GREGORIAN
METHOD:PUBLISH
X-WR-CALNAME:Claremont Road Runners
X-ORIGINAL-URL:https://www.claremontroadrunners.co.uk
X-WR-CALDESC:Events for Claremont Road Runners
REFRESH-INTERVAL;VALUE=DURATION:PT1H
X-Robots-Tag:noindex
X-PUBLISHED-TTL:PT1H
BEGIN:VTIMEZONE
TZID:Europe/London
BEGIN:DAYLIGHT
TZOFFSETFROM:+0000
TZOFFSETTO:+0100
TZNAME:BST
DTSTART:20250330T010000
END:DAYLIGHT
BEGIN:STANDARD
TZOFFSETFROM:+0100
TZOFFSETTO:+0000
TZNAME:GMT
DTSTART:20251026T010000
END:STANDARD
BEGIN:DAYLIGHT
TZOFFSETFROM:+0000
TZOFFSETTO:+0100
TZNAME:BST
DTSTART:20260329T010000
END:DAYLIGHT
BEGIN:STANDARD
TZOFFSETFROM:+0100
TZOFFSETTO:+0000
TZNAME:GMT
DTSTART:20261025T010000
END:STANDARD
BEGIN:DAYLIGHT
TZOFFSETFROM:+0000
TZOFFSETTO:+0100
TZNAME:BST
DTSTART:20270328T010000
END:DAYLIGHT
BEGIN:STANDARD
TZOFFSETFROM:+0100
TZOFFSETTO:+0000
TZNAME:GMT
DTSTART:20271031T010000
END:STANDARD
END:VTIMEZONE
BEGIN:VEVENT
DTSTART;TZID=Europe/London:20260314T120000
DTEND;TZID=Europe/London:20260314T150000
DTSTAMP:20260425T165103
CREATED:20260123T163438Z
LAST-MODIFIED:20260215T192008Z
UID:28588-1773489600-1773500400@www.claremontroadrunners.co.uk
SUMMARY:Royal Signals Road Relay Championships
DESCRIPTION:aka Hetton Lyons Relays \n12:00 Ladies & over 50s men (4 legs) \n13:20 Senior & over 40s men (6 legs)
URL:https://www.claremontroadrunners.co.uk/event/royal-signals-road-relay-championships/
LOCATION:Hetton Lyons Country Park\, DH5 9AR
CATEGORIES:Club Races
ATTACH;FMTTYPE=image/jpeg:https://claremontroadrunners.s3.eu-west-2.amazonaws.com/wp-content/uploads/2026/01/54329709044_de99cd2241_o-scaled.jpg
END:VEVENT
END:VCALENDAR