BEGIN:VCALENDAR
VERSION:2.0
PRODID:-//Claremont Road Runners - ECPv6.15.20//NONSGML v1.0//EN
CALSCALE:GREGORIAN
METHOD:PUBLISH
X-WR-CALNAME:Claremont Road Runners
X-ORIGINAL-URL:https://www.claremontroadrunners.co.uk
X-WR-CALDESC:Events for Claremont Road Runners
REFRESH-INTERVAL;VALUE=DURATION:PT1H
X-Robots-Tag:noindex
X-PUBLISHED-TTL:PT1H
BEGIN:VTIMEZONE
TZID:Europe/London
BEGIN:DAYLIGHT
TZOFFSETFROM:+0000
TZOFFSETTO:+0100
TZNAME:BST
DTSTART:20250330T010000
END:DAYLIGHT
BEGIN:STANDARD
TZOFFSETFROM:+0100
TZOFFSETTO:+0000
TZNAME:GMT
DTSTART:20251026T010000
END:STANDARD
BEGIN:DAYLIGHT
TZOFFSETFROM:+0000
TZOFFSETTO:+0100
TZNAME:BST
DTSTART:20260329T010000
END:DAYLIGHT
BEGIN:STANDARD
TZOFFSETFROM:+0100
TZOFFSETTO:+0000
TZNAME:GMT
DTSTART:20261025T010000
END:STANDARD
BEGIN:DAYLIGHT
TZOFFSETFROM:+0000
TZOFFSETTO:+0100
TZNAME:BST
DTSTART:20270328T010000
END:DAYLIGHT
BEGIN:STANDARD
TZOFFSETFROM:+0100
TZOFFSETTO:+0000
TZNAME:GMT
DTSTART:20271031T010000
END:STANDARD
END:VTIMEZONE
BEGIN:VEVENT
DTSTART;TZID=Europe/London:20260315T100000
DTEND;TZID=Europe/London:20260315T123000
DTSTAMP:20260425T153150
CREATED:20250312T165959Z
LAST-MODIFIED:20260306T183208Z
UID:27344-1773568800-1773577800@www.claremontroadrunners.co.uk
SUMMARY:Alnwick Castle Half Marathon and 10K Trail Runs
DESCRIPTION:Magnificent venue with races starting and finishing with the backdrop of the Castle and River Aln and taking in the best parts of Hulne Park\, the private estate of the Duke of Northumberland.  The Half ventures further into the Park.
URL:https://www.claremontroadrunners.co.uk/event/alnwick-castle-half-marathon-and-10k-trail-runs/
LOCATION:Alnwick Castle\, NE66 1NQ
CATEGORIES:Individual Races
ATTACH;FMTTYPE=image/jpeg:https://claremontroadrunners.s3.eu-west-2.amazonaws.com/wp-content/uploads/2025/03/Hulne-Park-Alnwick.jpg
END:VEVENT
END:VCALENDAR