BEGIN:VCALENDAR
VERSION:2.0
PRODID:-//Claremont Road Runners - ECPv6.15.20//NONSGML v1.0//EN
CALSCALE:GREGORIAN
METHOD:PUBLISH
X-ORIGINAL-URL:https://www.claremontroadrunners.co.uk
X-WR-CALDESC:Events for Claremont Road Runners
REFRESH-INTERVAL;VALUE=DURATION:PT1H
X-Robots-Tag:noindex
X-PUBLISHED-TTL:PT1H
BEGIN:VTIMEZONE
TZID:Europe/London
BEGIN:DAYLIGHT
TZOFFSETFROM:+0000
TZOFFSETTO:+0100
TZNAME:BST
DTSTART:20250330T010000
END:DAYLIGHT
BEGIN:STANDARD
TZOFFSETFROM:+0100
TZOFFSETTO:+0000
TZNAME:GMT
DTSTART:20251026T010000
END:STANDARD
BEGIN:DAYLIGHT
TZOFFSETFROM:+0000
TZOFFSETTO:+0100
TZNAME:BST
DTSTART:20260329T010000
END:DAYLIGHT
BEGIN:STANDARD
TZOFFSETFROM:+0100
TZOFFSETTO:+0000
TZNAME:GMT
DTSTART:20261025T010000
END:STANDARD
BEGIN:DAYLIGHT
TZOFFSETFROM:+0000
TZOFFSETTO:+0100
TZNAME:BST
DTSTART:20270328T010000
END:DAYLIGHT
BEGIN:STANDARD
TZOFFSETFROM:+0100
TZOFFSETTO:+0000
TZNAME:GMT
DTSTART:20271031T010000
END:STANDARD
END:VTIMEZONE
BEGIN:VEVENT
DTSTART;TZID=Europe/London:20260316T180000
DTEND;TZID=Europe/London:20260316T190000
DTSTAMP:20260425T141119
CREATED:20251230T202310Z
LAST-MODIFIED:20251230T202310Z
UID:28516-1773684000-1773687600@www.claremontroadrunners.co.uk
SUMMARY:Gosforth Flats - Winter Route
DESCRIPTION:This route has summer and winter variants.  The summer version goes through nice off road paths between fields and the golf course.\nThe summer route is approximately 7.3M (11.8K); in winter it is a bit longer at 7.4M (12K)\, with the short version at 5.2M (8.4K).
URL:https://www.claremontroadrunners.co.uk/event/gosforth-flats-winter-route/
LOCATION:Newcastle University Sports Centre\, Wallace Street\, Newcastle Upon Tyne\, NE2 4DR\, United Kingdom
CATEGORIES:Monday club runs
ATTACH;FMTTYPE=image/jpeg:https://claremontroadrunners.s3.eu-west-2.amazonaws.com/wp-content/uploads/2025/02/Gosforth.jpg
END:VEVENT
END:VCALENDAR