BEGIN:VCALENDAR
VERSION:2.0
PRODID:-//Claremont Road Runners - ECPv6.15.20//NONSGML v1.0//EN
CALSCALE:GREGORIAN
METHOD:PUBLISH
X-WR-CALNAME:Claremont Road Runners
X-ORIGINAL-URL:https://www.claremontroadrunners.co.uk
X-WR-CALDESC:Events for Claremont Road Runners
REFRESH-INTERVAL;VALUE=DURATION:PT1H
X-Robots-Tag:noindex
X-PUBLISHED-TTL:PT1H
BEGIN:VTIMEZONE
TZID:Europe/London
BEGIN:DAYLIGHT
TZOFFSETFROM:+0000
TZOFFSETTO:+0100
TZNAME:BST
DTSTART:20250330T010000
END:DAYLIGHT
BEGIN:STANDARD
TZOFFSETFROM:+0100
TZOFFSETTO:+0000
TZNAME:GMT
DTSTART:20251026T010000
END:STANDARD
BEGIN:DAYLIGHT
TZOFFSETFROM:+0000
TZOFFSETTO:+0100
TZNAME:BST
DTSTART:20260329T010000
END:DAYLIGHT
BEGIN:STANDARD
TZOFFSETFROM:+0100
TZOFFSETTO:+0000
TZNAME:GMT
DTSTART:20261025T010000
END:STANDARD
BEGIN:DAYLIGHT
TZOFFSETFROM:+0000
TZOFFSETTO:+0100
TZNAME:BST
DTSTART:20270328T010000
END:DAYLIGHT
BEGIN:STANDARD
TZOFFSETFROM:+0100
TZOFFSETTO:+0000
TZNAME:GMT
DTSTART:20271031T010000
END:STANDARD
END:VTIMEZONE
BEGIN:VEVENT
DTSTART;TZID=Europe/London:20260407T184500
DTEND;TZID=Europe/London:20260407T200000
DTSTAMP:20260424T171122
CREATED:20250228T173633Z
LAST-MODIFIED:20250801T164536Z
UID:27231-1775587500-1775592000@www.claremontroadrunners.co.uk
SUMMARY:NS Poly Grand Prix 8
DESCRIPTION:The final GP of the season.  A longer course than usual\, starting and finishing near the lighthouse\, as it includes the Fairburn Cup (a competition for Poly members). \nPresentation and buffet afterwards
URL:https://www.claremontroadrunners.co.uk/event/ns-poly-grand-prix/
LOCATION:Brierdene\, Whitley Bay\, NE26 1UE
CATEGORIES:NS Poly Grand Prix
ATTACH;FMTTYPE=image/jpeg:https://claremontroadrunners.s3.eu-west-2.amazonaws.com/wp-content/uploads/2025/02/GP6-Feb.jpg
END:VEVENT
END:VCALENDAR