BEGIN:VCALENDAR
VERSION:2.0
PRODID:-//Claremont Road Runners - ECPv6.15.20//NONSGML v1.0//EN
CALSCALE:GREGORIAN
METHOD:PUBLISH
X-ORIGINAL-URL:https://www.claremontroadrunners.co.uk
X-WR-CALDESC:Events for Claremont Road Runners
REFRESH-INTERVAL;VALUE=DURATION:PT1H
X-Robots-Tag:noindex
X-PUBLISHED-TTL:PT1H
BEGIN:VTIMEZONE
TZID:Europe/London
BEGIN:DAYLIGHT
TZOFFSETFROM:+0000
TZOFFSETTO:+0100
TZNAME:BST
DTSTART:20240331T010000
END:DAYLIGHT
BEGIN:STANDARD
TZOFFSETFROM:+0100
TZOFFSETTO:+0000
TZNAME:GMT
DTSTART:20241027T010000
END:STANDARD
BEGIN:DAYLIGHT
TZOFFSETFROM:+0000
TZOFFSETTO:+0100
TZNAME:BST
DTSTART:20250330T010000
END:DAYLIGHT
BEGIN:STANDARD
TZOFFSETFROM:+0100
TZOFFSETTO:+0000
TZNAME:GMT
DTSTART:20251026T010000
END:STANDARD
BEGIN:DAYLIGHT
TZOFFSETFROM:+0000
TZOFFSETTO:+0100
TZNAME:BST
DTSTART:20260329T010000
END:DAYLIGHT
BEGIN:STANDARD
TZOFFSETFROM:+0100
TZOFFSETTO:+0000
TZNAME:GMT
DTSTART:20261025T010000
END:STANDARD
END:VTIMEZONE
BEGIN:VEVENT
DTSTART;TZID=Europe/London:20250711T180000
DTEND;TZID=Europe/London:20250711T183000
DTSTAMP:20260421T064151
CREATED:20250630T153925Z
LAST-MODIFIED:20250630T153925Z
UID:27869-1752256800-1752258600@www.claremontroadrunners.co.uk
SUMMARY:Beer Mile\, 11th July 2025
DESCRIPTION:Or The Rose Hawkswood Annual Beer Mile to give it its full title.  Down a beer\, run a 400m lap of the track and repeat another 3 times! \nIf you want to do it by the book it’s pretty much just Sierra Nevada beer that hits the percentage / measure rules. But in the best Claremont traditions this really is an event that people can engage with however they want to. We’ve had plenty of non beer drinks (and zero percent alternatives) used over the years.
URL:https://www.claremontroadrunners.co.uk/event/beer-mile-11th-july-2025/
LOCATION:City Stadium\, Warwick Street\, NE2 1AQ
CATEGORIES:Club Event,Individual Races
ATTACH;FMTTYPE=image/jpeg:https://claremontroadrunners.s3.eu-west-2.amazonaws.com/wp-content/uploads/2025/06/Beer-Mile.jpg
END:VEVENT
END:VCALENDAR