BEGIN:VCALENDAR
VERSION:2.0
PRODID:-//Claremont Road Runners - ECPv6.15.20//NONSGML v1.0//EN
CALSCALE:GREGORIAN
METHOD:PUBLISH
X-ORIGINAL-URL:https://www.claremontroadrunners.co.uk
X-WR-CALDESC:Events for Claremont Road Runners
REFRESH-INTERVAL;VALUE=DURATION:PT1H
X-Robots-Tag:noindex
X-PUBLISHED-TTL:PT1H
BEGIN:VTIMEZONE
TZID:Europe/London
BEGIN:DAYLIGHT
TZOFFSETFROM:+0000
TZOFFSETTO:+0100
TZNAME:BST
DTSTART:20240331T010000
END:DAYLIGHT
BEGIN:STANDARD
TZOFFSETFROM:+0100
TZOFFSETTO:+0000
TZNAME:GMT
DTSTART:20241027T010000
END:STANDARD
BEGIN:DAYLIGHT
TZOFFSETFROM:+0000
TZOFFSETTO:+0100
TZNAME:BST
DTSTART:20250330T010000
END:DAYLIGHT
BEGIN:STANDARD
TZOFFSETFROM:+0100
TZOFFSETTO:+0000
TZNAME:GMT
DTSTART:20251026T010000
END:STANDARD
BEGIN:DAYLIGHT
TZOFFSETFROM:+0000
TZOFFSETTO:+0100
TZNAME:BST
DTSTART:20260329T010000
END:DAYLIGHT
BEGIN:STANDARD
TZOFFSETFROM:+0100
TZOFFSETTO:+0000
TZNAME:GMT
DTSTART:20261025T010000
END:STANDARD
END:VTIMEZONE
BEGIN:VEVENT
DTSTART;TZID=Europe/London:20250602T183000
DTEND;TZID=Europe/London:20250602T193000
DTSTAMP:20260421T092856
CREATED:20250326T160334Z
LAST-MODIFIED:20250326T160334Z
UID:27456-1748889000-1748892600@www.claremontroadrunners.co.uk
SUMMARY:Weetslade test run
DESCRIPTION:This week our Monday night run is a bit different – we are off to Weetslade to check out the relay course. \nThis is a chance for new members to get to know the course and for everybody else to look out for changes and marshal points.
URL:https://www.claremontroadrunners.co.uk/event/weetslade-test-run/
LOCATION:Lockey Park\, NE13 6LH
CATEGORIES:Club Event,Monday club runs
ATTACH;FMTTYPE=image/jpeg:https://claremontroadrunners.s3.eu-west-2.amazonaws.com/wp-content/uploads/2025/03/P1110961.jpg
END:VEVENT
END:VCALENDAR